BEGIN:VCALENDAR
VERSION:2.0
PRODID:-//Ktunaxa Nation - ECPv6.15.12.2//NONSGML v1.0//EN
CALSCALE:GREGORIAN
METHOD:PUBLISH
X-WR-CALNAME:Ktunaxa Nation
X-ORIGINAL-URL:https://ktunaxa.org
X-WR-CALDESC:Events for Ktunaxa Nation
REFRESH-INTERVAL;VALUE=DURATION:PT1H
X-Robots-Tag:noindex
X-PUBLISHED-TTL:PT1H
BEGIN:VTIMEZONE
TZID:America/Edmonton
BEGIN:DAYLIGHT
TZOFFSETFROM:-0700
TZOFFSETTO:-0600
TZNAME:MDT
DTSTART:20250309T090000
END:DAYLIGHT
BEGIN:STANDARD
TZOFFSETFROM:-0600
TZOFFSETTO:-0700
TZNAME:MST
DTSTART:20251102T080000
END:STANDARD
BEGIN:DAYLIGHT
TZOFFSETFROM:-0700
TZOFFSETTO:-0600
TZNAME:MDT
DTSTART:20260308T090000
END:DAYLIGHT
BEGIN:STANDARD
TZOFFSETFROM:-0600
TZOFFSETTO:-0700
TZNAME:MST
DTSTART:20261101T080000
END:STANDARD
BEGIN:DAYLIGHT
TZOFFSETFROM:-0700
TZOFFSETTO:-0600
TZNAME:MDT
DTSTART:20270314T090000
END:DAYLIGHT
BEGIN:STANDARD
TZOFFSETFROM:-0600
TZOFFSETTO:-0700
TZNAME:MST
DTSTART:20271107T080000
END:STANDARD
END:VTIMEZONE
BEGIN:VEVENT
DTSTART;TZID=America/Edmonton:20260128T183000
DTEND;TZID=America/Edmonton:20260128T213000
DTSTAMP:20260422T023516
CREATED:20260114T213914Z
LAST-MODIFIED:20260114T213914Z
UID:6309-1769625000-1769635800@ktunaxa.org
SUMMARY:Games Night
DESCRIPTION:00 Ktunaxa Games Night Poster 2026-01 \nKtunaxanintik and Language Learners\, join us around the table to play\, laugh and learn Ktunaxa. \nJanuary 28\, 2025\n6:3o pm to 9:30 pm \n 
URL:https://ktunaxa.org/event/games-night/
LOCATION:Ktunaxa Nation Council TKL Space\, 220 Cranbrook Street N.\, Cranbrook\, B.C.\, V1C 2R3\, Canada
CATEGORIES:TKL
ATTACH;FMTTYPE=image/jpeg:https://ktunaxa.org/wp-content/uploads/2026/01/00-Ktunaxa-Games-Night-Poster-2026-01-scaled.jpg
END:VEVENT
END:VCALENDAR